BEGIN:VCALENDAR
VERSION:2.0
PRODID:-//SOROPTIMIST INTERNATIONAL - ECPv5.5.0.1//NONSGML v1.0//EN
CALSCALE:GREGORIAN
METHOD:PUBLISH
X-WR-CALNAME:SOROPTIMIST INTERNATIONAL
X-ORIGINAL-URL:https://www.soroptimist-badragaz.ch
X-WR-CALDESC:Veranstaltungen für SOROPTIMIST INTERNATIONAL
BEGIN:VTIMEZONE
TZID:Europe/Berlin
BEGIN:DAYLIGHT
TZOFFSETFROM:+0100
TZOFFSETTO:+0200
TZNAME:CEST
DTSTART:20230326T010000
END:DAYLIGHT
BEGIN:STANDARD
TZOFFSETFROM:+0200
TZOFFSETTO:+0100
TZNAME:CET
DTSTART:20231029T010000
END:STANDARD
END:VTIMEZONE
BEGIN:VEVENT
DTSTART;TZID=Europe/Berlin:20230516T190000
DTEND;TZID=Europe/Berlin:20230516T220000
DTSTAMP:20260421T112933
CREATED:20230329T191556Z
LAST-MODIFIED:20230329T191556Z
UID:832-1684263600-1684274400@www.soroptimist-badragaz.ch
SUMMARY:Club Meeting mit dem Club Chur
DESCRIPTION:News aus der Union\, Catherine Schuppli berichtet.\nNews von Freundschafts-Clubs\, Barbara Gmünder informiert.
URL:https://www.soroptimist-badragaz.ch/event/club-meeting-mit-dem-club-chur/
LOCATION:Club Treffpunkt im Restaurant Olives d’Or\, Grand Resort Bad Ragaz\, Bernhard-Simonstrasse\, Bad Ragaz\, 7310\, Schweiz
CATEGORIES:Überblick
END:VEVENT
END:VCALENDAR